BEGIN:VCALENDAR
VERSION:2.0
PRODID:-//Speegleville Baptist Church - ECPv6.15.17.1//NONSGML v1.0//EN
CALSCALE:GREGORIAN
METHOD:PUBLISH
X-ORIGINAL-URL:https://speeglevillebaptist.org
X-WR-CALDESC:Events for Speegleville Baptist Church
REFRESH-INTERVAL;VALUE=DURATION:PT1H
X-Robots-Tag:noindex
X-PUBLISHED-TTL:PT1H
BEGIN:VTIMEZONE
TZID:America/Chicago
BEGIN:DAYLIGHT
TZOFFSETFROM:-0600
TZOFFSETTO:-0500
TZNAME:CDT
DTSTART:20220313T080000
END:DAYLIGHT
BEGIN:STANDARD
TZOFFSETFROM:-0500
TZOFFSETTO:-0600
TZNAME:CST
DTSTART:20221106T070000
END:STANDARD
BEGIN:DAYLIGHT
TZOFFSETFROM:-0600
TZOFFSETTO:-0500
TZNAME:CDT
DTSTART:20230312T080000
END:DAYLIGHT
BEGIN:STANDARD
TZOFFSETFROM:-0500
TZOFFSETTO:-0600
TZNAME:CST
DTSTART:20231105T070000
END:STANDARD
BEGIN:DAYLIGHT
TZOFFSETFROM:-0600
TZOFFSETTO:-0500
TZNAME:CDT
DTSTART:20240310T080000
END:DAYLIGHT
BEGIN:STANDARD
TZOFFSETFROM:-0500
TZOFFSETTO:-0600
TZNAME:CST
DTSTART:20241103T070000
END:STANDARD
END:VTIMEZONE
BEGIN:VEVENT
DTSTART;TZID=America/Chicago:20230809T180000
DTEND;TZID=America/Chicago:20230809T190000
DTSTAMP:20260421T211920
CREATED:20230730T210904Z
LAST-MODIFIED:20230730T210904Z
UID:12795-1691604000-1691607600@speeglevillebaptist.org
SUMMARY:Wonderful Wednesday Warm Nights Fellowship -- Ice Cream Sundaes
DESCRIPTION:Bring your favorite ice cream and/or ice cream toppings for this fellowship.
URL:https://speeglevillebaptist.org/event/wonderful-wednesday-warm-nights-fellowship-ice-cream-sundaes/
LOCATION:Speegleville Baptist Church\, 469 Speegle Rd\, Waco\, TX\, 76712
CATEGORIES:general event
END:VEVENT
END:VCALENDAR